BEGIN:VCALENDAR
VERSION:2.0
PRODID:-//Abita Brewing Company - ECPv6.15.20//NONSGML v1.0//EN
CALSCALE:GREGORIAN
METHOD:PUBLISH
X-ORIGINAL-URL:https://abita.com
X-WR-CALDESC:Events for Abita Brewing Company
REFRESH-INTERVAL;VALUE=DURATION:PT1H
X-Robots-Tag:noindex
X-PUBLISHED-TTL:PT1H
BEGIN:VTIMEZONE
TZID:America/Chicago
BEGIN:DAYLIGHT
TZOFFSETFROM:-0600
TZOFFSETTO:-0500
TZNAME:CDT
DTSTART:20250309T080000
END:DAYLIGHT
BEGIN:STANDARD
TZOFFSETFROM:-0500
TZOFFSETTO:-0600
TZNAME:CST
DTSTART:20251102T070000
END:STANDARD
BEGIN:DAYLIGHT
TZOFFSETFROM:-0600
TZOFFSETTO:-0500
TZNAME:CDT
DTSTART:20260308T080000
END:DAYLIGHT
BEGIN:STANDARD
TZOFFSETFROM:-0500
TZOFFSETTO:-0600
TZNAME:CST
DTSTART:20261101T070000
END:STANDARD
BEGIN:DAYLIGHT
TZOFFSETFROM:-0600
TZOFFSETTO:-0500
TZNAME:CDT
DTSTART:20270314T080000
END:DAYLIGHT
BEGIN:STANDARD
TZOFFSETFROM:-0500
TZOFFSETTO:-0600
TZNAME:CST
DTSTART:20271107T070000
END:STANDARD
END:VTIMEZONE
BEGIN:VTIMEZONE
TZID:UTC
BEGIN:STANDARD
TZOFFSETFROM:+0000
TZOFFSETTO:+0000
TZNAME:UTC
DTSTART:20250101T000000
END:STANDARD
END:VTIMEZONE
BEGIN:VEVENT
DTSTART;TZID=America/Chicago:20260211T170000
DTEND;TZID=America/Chicago:20260211T210000
DTSTAMP:20260425T083552
CREATED:20260131T183116Z
LAST-MODIFIED:20260131T183116Z
UID:47441-1770829200-1770843600@abita.com
SUMMARY:Taste of Kultures Pop Up
DESCRIPTION:Join us at Abita New Orleans for a special pop-up with Taste of Kultures\, bringing bold flavors and comfort food inspired by the Philippines and beyond! \nOn the menu:🥟 Birria Empanadas (a crowd favorite!)🍗 Filipino Chicken Adobo Rice Bowl🍜 Pancit – stir-fried vegetable rice noodles🌯 Lumpia – crispy Filipino spring rolls
URL:https://abita.com/event/taste-of-kultures-pop-up-8/
LOCATION:New Orleans Abita\, 2375 Tchoupitoulas St\, New Orleans\, LA\, 70130\, United States
CATEGORIES:Food Truck
ATTACH;FMTTYPE=image/jpeg:https://abita.com/wp-content/uploads/2025/09/tasteofkultures.jpg
END:VEVENT
BEGIN:VEVENT
DTSTART;TZID=America/Chicago:20260211T190000
DTEND;TZID=America/Chicago:20260211T210000
DTSTAMP:20260425T083552
CREATED:20260113T222325Z
LAST-MODIFIED:20260113T222325Z
UID:46818-1770836400-1770843600@abita.com
SUMMARY:Bingo Night!
DESCRIPTION:Come enjoy some BINGO fun at the taproom this Wednesday! All ages are welcome. Tacos Y Birria will be here from 5-9 to satisfy your cravings! \nPaper cards will be used with pens to mark your spot. You can bring your own ink daubers if you want! Each Person will get 1 free card per round. A 2nd card may be given with the purchase of a beer! No more than 2 cards per round per person. \nGood luck!
URL:https://abita.com/event/bingo-night-24/
LOCATION:Covington Abita
CATEGORIES:BINGO,Food Truck
END:VEVENT
BEGIN:VEVENT
DTSTART;TZID=America/Chicago:20260213T160000
DTEND;TZID=America/Chicago:20260213T210000
DTSTAMP:20260425T083552
CREATED:20260131T184036Z
LAST-MODIFIED:20260131T184036Z
UID:47449-1770998400-1771016400@abita.com
SUMMARY:Get Your Mom & Dim Sum
DESCRIPTION:Get Your Mom & Dim Sum serves up bold\, crave-worthy Chinese-American comfort food — from juicy orange chicken and dumplings to next-level crab rangoons. Big flavors\, big portions\, and perfect late-night eats.
URL:https://abita.com/event/get-your-mom-dim-sum-3/
LOCATION:New Orleans Abita\, 2375 Tchoupitoulas St\, New Orleans\, LA\, 70130\, United States
CATEGORIES:Food Truck
ATTACH;FMTTYPE=image/jpeg:https://abita.com/wp-content/uploads/2025/02/FX1B6641-e1742581335674.jpg
END:VEVENT
BEGIN:VEVENT
DTSTART;TZID=America/Chicago:20260213T170000
DTEND;TZID=America/Chicago:20260213T210000
DTSTAMP:20260425T083552
CREATED:20260204T215136Z
LAST-MODIFIED:20260204T215153Z
UID:47638-1771002000-1771016400@abita.com
SUMMARY:Mardi Gras Pint Night
DESCRIPTION:Enjoy a variety of bubbly brews from Abita\nBrewing Company\, sometimes as low as\n$4.00 dollars a pint!\nWe might even have a special pint glass\, so be\non the lookout!
URL:https://abita.com/event/mardi-gras-pint-night-2/
LOCATION:Jungle Jim’s Fairfield\, 5440 Dixie Hwy\, Fairfield\, OH\, 45014\, United States
CATEGORIES:Bar Promotions
ATTACH;FMTTYPE=image/png:https://abita.com/wp-content/uploads/2026/02/Screenshot-2026-02-04-at-2.35.03-PM.png
END:VEVENT
BEGIN:VEVENT
DTSTART;TZID=America/Chicago:20260213T180000
DTEND;TZID=America/Chicago:20260213T210000
DTSTAMP:20260425T083552
CREATED:20260201T173719Z
LAST-MODIFIED:20260201T173719Z
UID:47501-1771005600-1771016400@abita.com
SUMMARY:Friday Night Flights
DESCRIPTION:🍻 Friday Night Flights 🍻Kick off your weekend with our rotating Friday Night Flights! \nFor just $18\, from 6-9pm enjoy a preselected flight and explore two unique offerings.👉 Pick your favorite from the pair—then come back next week for something completely new\, because our flights change weekly! \nPerfect for the indecisive\, the adventurous\, or anyone who just loves great beer. See you Friday!
URL:https://abita.com/event/friday-night-flights-16/
LOCATION:New Orleans Abita\, 2375 Tchoupitoulas St\, New Orleans\, LA\, 70130\, United States
CATEGORIES:Bar Promotions
ATTACH;FMTTYPE=image/jpeg:https://abita.com/wp-content/uploads/2025/04/AbitaMerch2_MyFirstScene_0026.jpg
END:VEVENT
BEGIN:VEVENT
DTSTART;TZID=America/Chicago:20260214T120000
DTEND;TZID=America/Chicago:20260214T190000
DTSTAMP:20260425T083552
CREATED:20260131T182936Z
LAST-MODIFIED:20260201T172707Z
UID:47439-1771070400-1771095600@abita.com
SUMMARY:Taste of Kultures Pop Up
DESCRIPTION:Join us at Abita New Orleans for a special pop-up with Taste of Kultures\, bringing bold flavors and comfort food inspired by the Philippines and beyond! \nOn the menu:🥟 Birria Empanadas (a crowd favorite!)🍗 Filipino Chicken Adobo Rice Bowl🍜 Pancit – stir-fried vegetable rice noodles🌯 Lumpia – crispy Filipino spring rolls
URL:https://abita.com/event/taste-of-kultures-pop-up-6/
LOCATION:New Orleans Abita\, 2375 Tchoupitoulas St\, New Orleans\, LA\, 70130\, United States
CATEGORIES:Food Truck
ATTACH;FMTTYPE=image/jpeg:https://abita.com/wp-content/uploads/2025/09/tasteofkultures.jpg
END:VEVENT
BEGIN:VEVENT
DTSTART;TZID=UTC:20260215T100000
DTEND;TZID=UTC:20260215T180000
DTSTAMP:20260425T083552
CREATED:20260131T181257Z
LAST-MODIFIED:20260201T180249Z
UID:47427-1771149600-1771178400@abita.com
SUMMARY:Gaijin Sandos BRUNCH Pop Up
DESCRIPTION:Get ready for a flavor-packed afternoon as @gajinsandos takes over with their Japanese-inspired\, Southern-influenced hot sandwiches \nCome early\, grab a cold Abita\, and sink your teeth into some of the best sandos around.
URL:https://abita.com/event/gaijin-sandos-pop-up-41/
LOCATION:New Orleans Abita\, 2375 Tchoupitoulas St\, New Orleans\, LA\, 70130\, United States
CATEGORIES:Food Truck
ATTACH;FMTTYPE=image/jpeg:https://abita.com/wp-content/uploads/2025/03/489531845_122148542690553575_1746433078813602340_n.jpg
END:VEVENT
BEGIN:VEVENT
DTSTART;TZID=America/Chicago:20260215T120000
DTEND;TZID=America/Chicago:20260215T180000
DTSTAMP:20260425T083552
CREATED:20260212T224529Z
LAST-MODIFIED:20260212T224529Z
UID:47891-1771156800-1771178400@abita.com
SUMMARY:Food Pop-Up: Shaw's Dogs
DESCRIPTION:Shaw’s Dog is popping up at Abita Brewery from 12–6 PM\, serving up his signature bacon-wrapped hot dogs—simple\, classic\, and seriously good. Add a side of fries or loaded fries for a little extra indulgence. Swing by for one of our brews and\, of course\, Shaw’s Dogs. 🌭🍺
URL:https://abita.com/event/food-pop-up-shaws-dogs/
LOCATION:Covington Abita
CATEGORIES:Food Truck
ATTACH;FMTTYPE=image/jpeg:https://abita.com/wp-content/uploads/2026/01/shawsdogslogo.jpg
END:VEVENT
BEGIN:VEVENT
DTSTART;TZID=America/Chicago:20260215T160000
DTEND;TZID=America/Chicago:20260215T210000
DTSTAMP:20260425T083552
CREATED:20260212T224715Z
LAST-MODIFIED:20260212T224908Z
UID:47892-1771171200-1771189200@abita.com
SUMMARY:Karaoke
DESCRIPTION:Karaoke and a little beer never hurt anybody! Come out to the taproom and join us for karaoke from 4pm – 9pm with Karaoke Kevin.  Whether you have the voice of an angel or are just here for a good time\, all are welcome.\nAs always\, we are family and pet friendly!!!
URL:https://abita.com/event/karaoke-39/
LOCATION:Covington Abita
CATEGORIES:Karaoke
END:VEVENT
BEGIN:VEVENT
DTSTART;TZID=America/Chicago:20260216T160000
DTEND;TZID=America/Chicago:20260216T180000
DTSTAMP:20260425T083552
CREATED:20260201T173115Z
LAST-MODIFIED:20260201T173115Z
UID:47493-1771257600-1771264800@abita.com
SUMMARY:Happy Hour
DESCRIPTION:Mondays – Wednesdays⏰ 4–6 PM \nThe best plans are the ones you don’t overthink.Swing by after work\, grab a cold one\, and happy hour specials during the sweet spot of the day. \nPerfect for casual catch-ups\, post-shift decompression\, or turning “just one” into a proper hang. \nMidweek just got a little happier. 🍺
URL:https://abita.com/event/happy-hour-41/
LOCATION:New Orleans Abita\, 2375 Tchoupitoulas St\, New Orleans\, LA\, 70130\, United States
CATEGORIES:Happy Hour
ATTACH;FMTTYPE=image/jpeg:https://abita.com/wp-content/uploads/2025/04/AbitaMerch2_MyFirstScene_0001-e1745340513945.jpg
END:VEVENT
BEGIN:VEVENT
DTSTART;TZID=America/Chicago:20260217T150000
DTEND;TZID=America/Chicago:20260217T190000
DTSTAMP:20260425T083552
CREATED:20260122T214923Z
LAST-MODIFIED:20260122T214923Z
UID:47167-1771340400-1771354800@abita.com
SUMMARY:Taco Tuesday - Food Truck - El Sabor De Veracruz
DESCRIPTION:TACO TUESDAY\nEvery Tuesday | 3PM – 7PM \n🌮 4 Tacos for $10🍺 $5 Beeracuda\, Light & Chilsner Pints🍹 $5 Frozen Margaritas🌶️ $5 Micheladas \nGreat food. Cold drinks. Taco vibes all afternoon.Don’t miss it!
URL:https://abita.com/event/taco-tuesday-food-truck-el-sabor-de-veracruz-4/
LOCATION:Covington Abita
CATEGORIES:Taco Tuesday
ATTACH;FMTTYPE=image/jpeg:https://abita.com/wp-content/uploads/2025/10/elsaborveracruzlogo-scaled.jpeg
END:VEVENT
BEGIN:VEVENT
DTSTART;TZID=America/Chicago:20260217T160000
DTEND;TZID=America/Chicago:20260217T180000
DTSTAMP:20260425T083552
CREATED:20260201T173155Z
LAST-MODIFIED:20260201T173155Z
UID:47494-1771344000-1771351200@abita.com
SUMMARY:Happy Hour
DESCRIPTION:Mondays – Wednesdays⏰ 4–6 PM \nThe best plans are the ones you don’t overthink.Swing by after work\, grab a cold one\, and happy hour specials during the sweet spot of the day. \nPerfect for casual catch-ups\, post-shift decompression\, or turning “just one” into a proper hang. \nMidweek just got a little happier. 🍺
URL:https://abita.com/event/happy-hour-42/
LOCATION:New Orleans Abita\, 2375 Tchoupitoulas St\, New Orleans\, LA\, 70130\, United States
CATEGORIES:Happy Hour
ATTACH;FMTTYPE=image/jpeg:https://abita.com/wp-content/uploads/2025/04/AbitaMerch2_MyFirstScene_0001-e1745340513945.jpg
END:VEVENT
BEGIN:VEVENT
DTSTART;TZID=America/Chicago:20260218T160000
DTEND;TZID=America/Chicago:20260218T180000
DTSTAMP:20260425T083552
CREATED:20260201T173235Z
LAST-MODIFIED:20260201T173235Z
UID:47495-1771430400-1771437600@abita.com
SUMMARY:Happy Hour
DESCRIPTION:Mondays – Wednesdays⏰ 4–6 PM \nThe best plans are the ones you don’t overthink.Swing by after work\, grab a cold one\, and happy hour specials during the sweet spot of the day. \nPerfect for casual catch-ups\, post-shift decompression\, or turning “just one” into a proper hang. \nMidweek just got a little happier. 🍺
URL:https://abita.com/event/happy-hour-43/
LOCATION:New Orleans Abita\, 2375 Tchoupitoulas St\, New Orleans\, LA\, 70130\, United States
CATEGORIES:Happy Hour
ATTACH;FMTTYPE=image/jpeg:https://abita.com/wp-content/uploads/2025/04/AbitaMerch2_MyFirstScene_0001-e1745340513945.jpg
END:VEVENT
BEGIN:VEVENT
DTSTART;TZID=America/Chicago:20260218T170000
DTEND;TZID=America/Chicago:20260218T210000
DTSTAMP:20260425T083552
CREATED:20260131T183217Z
LAST-MODIFIED:20260131T183217Z
UID:47442-1771434000-1771448400@abita.com
SUMMARY:Taste of Kultures Pop Up
DESCRIPTION:Join us at Abita New Orleans for a special pop-up with Taste of Kultures\, bringing bold flavors and comfort food inspired by the Philippines and beyond! \nOn the menu:🥟 Birria Empanadas (a crowd favorite!)🍗 Filipino Chicken Adobo Rice Bowl🍜 Pancit – stir-fried vegetable rice noodles🌯 Lumpia – crispy Filipino spring rolls
URL:https://abita.com/event/taste-of-kultures-pop-up-9/
LOCATION:New Orleans Abita\, 2375 Tchoupitoulas St\, New Orleans\, LA\, 70130\, United States
CATEGORIES:Food Truck
ATTACH;FMTTYPE=image/jpeg:https://abita.com/wp-content/uploads/2025/09/tasteofkultures.jpg
END:VEVENT
BEGIN:VEVENT
DTSTART;TZID=America/Chicago:20260219T160000
DTEND;TZID=America/Chicago:20260219T210000
DTSTAMP:20260425T083552
CREATED:20260131T183546Z
LAST-MODIFIED:20260131T183546Z
UID:47445-1771516800-1771534800@abita.com
SUMMARY:Daddy & Me Catering Pop Up
DESCRIPTION:🔥 Daddy & Me Catering Pop-Up at Abita New Orleans 🔥 \nJoin us as Daddy & Me Catering takes over the kitchen with their one-of-a-kind creations! Known for their 5-star rated crawfish eggrolls\, this crew also serves up seafood eggrolls\, steak rolls\, and loaded seafood baked potatoes that locals can’t stop talking about. 🦞🥩🥔 \nThe menu is always fresh and may change—but one thing’s guaranteed: bold flavors that pair perfectly with an ice-cold Abita beer. 🍺 \n📍 Abita New Orleans2375 Tchoupitoulas St. \nCome early\, come hungry\, and taste why Daddy & Me has built such a big local following! ✨
URL:https://abita.com/event/daddy-me-catering-pop-up-14/
LOCATION:New Orleans Abita\, 2375 Tchoupitoulas St\, New Orleans\, LA\, 70130\, United States
CATEGORIES:Food Truck
ATTACH;FMTTYPE=image/png:https://abita.com/wp-content/uploads/2025/03/Untitled-design-1.png
END:VEVENT
BEGIN:VEVENT
DTSTART;TZID=America/Chicago:20260220T150000
DTEND;TZID=America/Chicago:20260220T210000
DTSTAMP:20260425T083552
CREATED:20260113T222705Z
LAST-MODIFIED:20260113T222705Z
UID:46820-1771599600-1771621200@abita.com
SUMMARY:Creole Tomateaux
DESCRIPTION:Creole Tomateaux food truck will be here serving up some food from 3-9pm.
URL:https://abita.com/event/creole-tomateaux-6/
LOCATION:Covington Abita
CATEGORIES:Food Truck
ATTACH;FMTTYPE=image/jpeg:https://abita.com/wp-content/uploads/2025/08/creoletomateauxlogo.jpg
END:VEVENT
BEGIN:VEVENT
DTSTART;TZID=America/Chicago:20260220T170000
DTEND;TZID=America/Chicago:20260220T210000
DTSTAMP:20260425T083552
CREATED:20260204T215309Z
LAST-MODIFIED:20260204T215309Z
UID:47640-1771606800-1771621200@abita.com
SUMMARY:Jungle Jim's Eastgate
DESCRIPTION:Enjoy a variety of bubbly brews from Abita\nBrewing Company\, sometimes as low as\n$4.00 dollars a pint!\nWe might even have a special pint glass\, so be\non the lookout!
URL:https://abita.com/event/jungle-jims-eastgate/
LOCATION:Jungle Jim’s Fairfield\, 5440 Dixie Hwy\, Fairfield\, OH\, 45014\, United States
CATEGORIES:Bar Promotions
ATTACH;FMTTYPE=image/png:https://abita.com/wp-content/uploads/2026/02/Screenshot-2026-02-04-at-2.35.03-PM.png
END:VEVENT
BEGIN:VEVENT
DTSTART;TZID=America/Chicago:20260220T170000
DTEND;TZID=America/Chicago:20260220T210000
DTSTAMP:20260425T083552
CREATED:20260131T185600Z
LAST-MODIFIED:20260203T174549Z
UID:47454-1771606800-1771621200@abita.com
SUMMARY:Crawfish Fridays with NOLA Crawfish King
DESCRIPTION:Let the pots bubble and the good times roll. Every Friday through Lent\, we’re teaming up with NOLA Crawfish King to bring you hot\, perfectly boiled crawfish served fresh at 5PM. \nKick off the season Friday\, February 20th and make it a weekly ritual. Grab a cold Abita\, peel a little\, laugh a lot\, and settle into your new favorite Friday tradition. \n📅 Fridays through Lent⏰ Starting Feb. 20 | 5PM📍 Abita New Orleans Taproom
URL:https://abita.com/event/crawfish-fridays-with-nola-crawfish-king/
LOCATION:New Orleans Abita\, 2375 Tchoupitoulas St\, New Orleans\, LA\, 70130\, United States
CATEGORIES:Crawfish,Food Truck
ATTACH;FMTTYPE=image/jpeg:https://abita.com/wp-content/uploads/2025/03/Crawfish-Boil-2_-Claire-Anderson-1-scaled.jpg
END:VEVENT
BEGIN:VEVENT
DTSTART;TZID=America/Chicago:20260220T180000
DTEND;TZID=America/Chicago:20260220T210000
DTSTAMP:20260425T083552
CREATED:20260201T172106Z
LAST-MODIFIED:20260201T172106Z
UID:47483-1771610400-1771621200@abita.com
SUMMARY:Sunny Side Jazz Band
DESCRIPTION:Abita New Orleans is excited to welcome back Sunny Side Jazz Band for the first of our Crawfish Boil Fridays\, kicking off the first Friday after Lent. Join us for a great beer selection\, hot boiled crawfish\, and live jazz to set the vibe. \nNo cover. All ages welcome.Tips for the band always appreciated.
URL:https://abita.com/event/sunny-side-jazz-band/
LOCATION:New Orleans Abita\, 2375 Tchoupitoulas St\, New Orleans\, LA\, 70130\, United States
CATEGORIES:Music,Crawfish
ATTACH;FMTTYPE=image/jpeg:https://abita.com/wp-content/uploads/2026/02/Sunny-Side-Jazz-scaled-1.jpeg
END:VEVENT
BEGIN:VEVENT
DTSTART;TZID=America/Chicago:20260220T180000
DTEND;TZID=America/Chicago:20260220T210000
DTSTAMP:20260425T083552
CREATED:20260201T173743Z
LAST-MODIFIED:20260201T173743Z
UID:47502-1771610400-1771621200@abita.com
SUMMARY:Friday Night Flights
DESCRIPTION:🍻 Friday Night Flights 🍻Kick off your weekend with our rotating Friday Night Flights! \nFor just $18\, from 6-9pm enjoy a preselected flight and explore two unique offerings.👉 Pick your favorite from the pair—then come back next week for something completely new\, because our flights change weekly! \nPerfect for the indecisive\, the adventurous\, or anyone who just loves great beer. See you Friday!
URL:https://abita.com/event/friday-night-flights-17/
LOCATION:New Orleans Abita\, 2375 Tchoupitoulas St\, New Orleans\, LA\, 70130\, United States
CATEGORIES:Bar Promotions
ATTACH;FMTTYPE=image/jpeg:https://abita.com/wp-content/uploads/2025/04/AbitaMerch2_MyFirstScene_0026.jpg
END:VEVENT
BEGIN:VEVENT
DTSTART;TZID=America/Chicago:20260221T120000
DTEND;TZID=America/Chicago:20260221T180000
DTSTAMP:20260425T083552
CREATED:20260113T231659Z
LAST-MODIFIED:20260113T231659Z
UID:46840-1771675200-1771696800@abita.com
SUMMARY:Food Truck -Tootsie's BBQ
DESCRIPTION:Tootsie’s BBQ will be here serving up some food from 12-6pm. \n 
URL:https://abita.com/event/food-truck-tootsies-bbq-17/
LOCATION:Covington Abita
CATEGORIES:Food Truck
ATTACH;FMTTYPE=image/png:https://abita.com/wp-content/uploads/2025/08/images.png
END:VEVENT
BEGIN:VEVENT
DTSTART;TZID=America/Chicago:20260221T120000
DTEND;TZID=America/Chicago:20260221T180000
DTSTAMP:20260425T083552
CREATED:20260113T222857Z
LAST-MODIFIED:20260113T222944Z
UID:46821-1771675200-1771696800@abita.com
SUMMARY:Food Truck -Tootsie's BBQ
DESCRIPTION:Tootsie’s BBQ will be here serving up some food from 12-6pm. \n 
URL:https://abita.com/event/food-truck-tootsies-bbq-16/
LOCATION:Covington Abita
CATEGORIES:Food Truck
ATTACH;FMTTYPE=image/png:https://abita.com/wp-content/uploads/2025/08/images.png
END:VEVENT
BEGIN:VEVENT
DTSTART;TZID=UTC:20260221T120000
DTEND;TZID=UTC:20260221T190000
DTSTAMP:20260425T083552
CREATED:20260131T181334Z
LAST-MODIFIED:20260131T181334Z
UID:47428-1771675200-1771700400@abita.com
SUMMARY:Gaijin Sandos Pop Up
DESCRIPTION:Get ready for a flavor-packed afternoon as @gajinsandos takes over with their Japanese-inspired\, Southern-influenced hot sandwiches \nCome early\, grab a cold Abita\, and sink your teeth into some of the best sandos around.
URL:https://abita.com/event/gaijin-sandos-pop-up-42/
LOCATION:New Orleans Abita\, 2375 Tchoupitoulas St\, New Orleans\, LA\, 70130\, United States
CATEGORIES:Food Truck
ATTACH;FMTTYPE=image/jpeg:https://abita.com/wp-content/uploads/2025/03/489531845_122148542690553575_1746433078813602340_n.jpg
END:VEVENT
BEGIN:VEVENT
DTSTART;TZID=UTC:20260222T120000
DTEND;TZID=UTC:20260222T180000
DTSTAMP:20260425T083552
CREATED:20260113T223256Z
LAST-MODIFIED:20260113T223256Z
UID:46822-1771761600-1771783200@abita.com
SUMMARY:Food Truck - Tacos Y Birria
DESCRIPTION:Tacos Y Birria will be at the brewery some great food at the brewery today. Grab a beer and hang out!
URL:https://abita.com/event/food-truck-tacos-y-birria-12/
LOCATION:Covington Abita
CATEGORIES:Food Truck
ATTACH;FMTTYPE=image/jpeg:https://abita.com/wp-content/uploads/2025/08/tacosybirrialogo.jpg
END:VEVENT
BEGIN:VEVENT
DTSTART;TZID=America/Chicago:20260222T120000
DTEND;TZID=America/Chicago:20260222T190000
DTSTAMP:20260425T083552
CREATED:20260131T184150Z
LAST-MODIFIED:20260131T184150Z
UID:47450-1771761600-1771786800@abita.com
SUMMARY:Get Your Mom & Dim Sum
DESCRIPTION:Get Your Mom & Dim Sum serves up bold\, crave-worthy Chinese-American comfort food — from juicy orange chicken and dumplings to next-level crab rangoons. Big flavors\, big portions\, and perfect late-night eats.
URL:https://abita.com/event/get-your-mom-dim-sum-4/
LOCATION:New Orleans Abita\, 2375 Tchoupitoulas St\, New Orleans\, LA\, 70130\, United States
CATEGORIES:Food Truck
ATTACH;FMTTYPE=image/jpeg:https://abita.com/wp-content/uploads/2025/02/FX1B6641-e1742581335674.jpg
END:VEVENT
BEGIN:VEVENT
DTSTART;TZID=America/Chicago:20260223T160000
DTEND;TZID=America/Chicago:20260223T180000
DTSTAMP:20260425T083552
CREATED:20260201T173337Z
LAST-MODIFIED:20260201T173337Z
UID:47496-1771862400-1771869600@abita.com
SUMMARY:Happy Hour
DESCRIPTION:Mondays – Wednesdays⏰ 4–6 PM \nThe best plans are the ones you don’t overthink.Swing by after work\, grab a cold one\, and happy hour specials during the sweet spot of the day. \nPerfect for casual catch-ups\, post-shift decompression\, or turning “just one” into a proper hang. \nMidweek just got a little happier. 🍺
URL:https://abita.com/event/happy-hour-44/
LOCATION:New Orleans Abita\, 2375 Tchoupitoulas St\, New Orleans\, LA\, 70130\, United States
CATEGORIES:Happy Hour
ATTACH;FMTTYPE=image/jpeg:https://abita.com/wp-content/uploads/2025/04/AbitaMerch2_MyFirstScene_0001-e1745340513945.jpg
END:VEVENT
BEGIN:VEVENT
DTSTART;TZID=America/Chicago:20260224T150000
DTEND;TZID=America/Chicago:20260224T190000
DTSTAMP:20260425T083552
CREATED:20260122T215019Z
LAST-MODIFIED:20260122T215019Z
UID:47168-1771945200-1771959600@abita.com
SUMMARY:Taco Tuesday - Food Truck - El Sabor De Veracruz
DESCRIPTION:TACO TUESDAY\nEvery Tuesday | 3PM – 7PM \n🌮 4 Tacos for $10🍺 $5 Beeracuda\, Light & Chilsner Pints🍹 $5 Frozen Margaritas🌶️ $5 Micheladas \nGreat food. Cold drinks. Taco vibes all afternoon.Don’t miss it!
URL:https://abita.com/event/taco-tuesday-food-truck-el-sabor-de-veracruz-5/
LOCATION:Covington Abita
CATEGORIES:Taco Tuesday
ATTACH;FMTTYPE=image/jpeg:https://abita.com/wp-content/uploads/2025/10/elsaborveracruzlogo-scaled.jpeg
END:VEVENT
BEGIN:VEVENT
DTSTART;TZID=America/Chicago:20260224T160000
DTEND;TZID=America/Chicago:20260224T180000
DTSTAMP:20260425T083552
CREATED:20260201T173451Z
LAST-MODIFIED:20260201T173451Z
UID:47497-1771948800-1771956000@abita.com
SUMMARY:Happy Hour
DESCRIPTION:Mondays – Wednesdays⏰ 4–6 PM \nThe best plans are the ones you don’t overthink.Swing by after work\, grab a cold one\, and happy hour specials during the sweet spot of the day. \nPerfect for casual catch-ups\, post-shift decompression\, or turning “just one” into a proper hang. \nMidweek just got a little happier. 🍺
URL:https://abita.com/event/happy-hour-45/
LOCATION:New Orleans Abita\, 2375 Tchoupitoulas St\, New Orleans\, LA\, 70130\, United States
CATEGORIES:Happy Hour
ATTACH;FMTTYPE=image/jpeg:https://abita.com/wp-content/uploads/2025/04/AbitaMerch2_MyFirstScene_0001-e1745340513945.jpg
END:VEVENT
BEGIN:VEVENT
DTSTART;TZID=America/Chicago:20260224T160000
DTEND;TZID=America/Chicago:20260224T210000
DTSTAMP:20260425T083552
CREATED:20260131T183634Z
LAST-MODIFIED:20260131T183634Z
UID:47446-1771948800-1771966800@abita.com
SUMMARY:Daddy & Me Catering Pop Up
DESCRIPTION:🔥 Daddy & Me Catering Pop-Up at Abita New Orleans 🔥 \nJoin us as Daddy & Me Catering takes over the kitchen with their one-of-a-kind creations! Known for their 5-star rated crawfish eggrolls\, this crew also serves up seafood eggrolls\, steak rolls\, and loaded seafood baked potatoes that locals can’t stop talking about. 🦞🥩🥔 \nThe menu is always fresh and may change—but one thing’s guaranteed: bold flavors that pair perfectly with an ice-cold Abita beer. 🍺 \n📍 Abita New Orleans2375 Tchoupitoulas St. \nCome early\, come hungry\, and taste why Daddy & Me has built such a big local following! ✨
URL:https://abita.com/event/daddy-me-catering-pop-up-15/
LOCATION:New Orleans Abita\, 2375 Tchoupitoulas St\, New Orleans\, LA\, 70130\, United States
CATEGORIES:Food Truck
ATTACH;FMTTYPE=image/png:https://abita.com/wp-content/uploads/2025/03/Untitled-design-1.png
END:VEVENT
BEGIN:VEVENT
DTSTART;TZID=America/Chicago:20260224T180000
DTEND;TZID=America/Chicago:20260224T210000
DTSTAMP:20260425T083552
CREATED:20260131T182433Z
LAST-MODIFIED:20260131T182433Z
UID:47437-1771956000-1771966800@abita.com
SUMMARY:Heart Shaped NOLA Dessert Pop Up
DESCRIPTION:Every Tuesday | During Trivia \nTrivia nights just got a little sweeter.Join us every Tuesday during trivia for a rotating heart-shaped NOLA dessert pop-up featuring locally inspired treats made to share\, snack on\, or keep all to yourself. \nCome for the questions\, stay for the desserts\, and make your Tuesday night a little more delicious. \nBecause nothing says love like trivia and something sweet. 🍰🧠
URL:https://abita.com/event/heart-shaped-nola-dessert-pop-up-6/
LOCATION:New Orleans Abita\, 2375 Tchoupitoulas St\, New Orleans\, LA\, 70130\, United States
CATEGORIES:Food Truck,Trivia Night
END:VEVENT
END:VCALENDAR