BEGIN:VCALENDAR
VERSION:2.0
PRODID:-//Abita Brewing Company - ECPv6.15.20//NONSGML v1.0//EN
CALSCALE:GREGORIAN
METHOD:PUBLISH
X-WR-CALNAME:Abita Brewing Company
X-ORIGINAL-URL:https://abita.com
X-WR-CALDESC:Events for Abita Brewing Company
REFRESH-INTERVAL;VALUE=DURATION:PT1H
X-Robots-Tag:noindex
X-PUBLISHED-TTL:PT1H
BEGIN:VTIMEZONE
TZID:America/Chicago
BEGIN:DAYLIGHT
TZOFFSETFROM:-0600
TZOFFSETTO:-0500
TZNAME:CDT
DTSTART:20230312T080000
END:DAYLIGHT
BEGIN:STANDARD
TZOFFSETFROM:-0500
TZOFFSETTO:-0600
TZNAME:CST
DTSTART:20231105T070000
END:STANDARD
BEGIN:DAYLIGHT
TZOFFSETFROM:-0600
TZOFFSETTO:-0500
TZNAME:CDT
DTSTART:20240310T080000
END:DAYLIGHT
BEGIN:STANDARD
TZOFFSETFROM:-0500
TZOFFSETTO:-0600
TZNAME:CST
DTSTART:20241103T070000
END:STANDARD
BEGIN:DAYLIGHT
TZOFFSETFROM:-0600
TZOFFSETTO:-0500
TZNAME:CDT
DTSTART:20250309T080000
END:DAYLIGHT
BEGIN:STANDARD
TZOFFSETFROM:-0500
TZOFFSETTO:-0600
TZNAME:CST
DTSTART:20251102T070000
END:STANDARD
END:VTIMEZONE
BEGIN:VTIMEZONE
TZID:UTC
BEGIN:STANDARD
TZOFFSETFROM:+0000
TZOFFSETTO:+0000
TZNAME:UTC
DTSTART:20230101T000000
END:STANDARD
END:VTIMEZONE
BEGIN:VEVENT
DTSTART;TZID=America/Chicago:20240830T160000
DTEND;TZID=America/Chicago:20240830T210000
DTSTAMP:20260423T102910
CREATED:20240702T204842Z
LAST-MODIFIED:20240822T204728Z
UID:30837-1725033600-1725051600@abita.com
SUMMARY:Weekend Food Truck: Big Poppa Eats
DESCRIPTION:Start your weekend with us at the brewery! Big Poppa Eats will be at the brewery serving some great food. Grab a beer and hang out for a bit!
URL:https://abita.com/event/weekend-food-truck-wicked-fire-pizza/
LOCATION:Covington Abita
CATEGORIES:Food Truck
ATTACH;FMTTYPE=image/jpeg:https://abita.com/wp-content/uploads/2024/01/woocommerce-placeholder-300x300-1.jpg
END:VEVENT
BEGIN:VEVENT
DTSTART;TZID=America/Chicago:20240829T190000
DTEND;TZID=America/Chicago:20240829T210000
DTSTAMP:20260423T102910
CREATED:20240702T201131Z
LAST-MODIFIED:20240702T201131Z
UID:30827-1724958000-1724965200@abita.com
SUMMARY:Trivia Night
DESCRIPTION:Trivia time! Hosted EVERY Thursday of the month. \nFood: The Good Stuffed from 5pm – 9pm to satisfy your cravings. \nAs always\, our taproom will have the beer flowing all night long. Seating is limited\, so come early to claim your table. \nMAX TEAM SIZE IS 8. No entry fee is required. All ages welcome. \nThe winning team will receive a $50 bar tab!
URL:https://abita.com/event/trivia-night-18/
LOCATION:Covington Abita
CATEGORIES:Food Truck,Trivia Night
ATTACH;FMTTYPE=image/png:https://abita.com/wp-content/uploads/2024/01/Events-Graphics-general-Instagram-Post-2.png
END:VEVENT
BEGIN:VEVENT
DTSTART;TZID=UTC:20240828T200000
DTEND;TZID=UTC:20240828T220000
DTSTAMP:20260423T102910
CREATED:20240702T211847Z
LAST-MODIFIED:20240702T211847Z
UID:30860-1724875200-1724882400@abita.com
SUMMARY:August Comedy Night
DESCRIPTION:Craft Comedy Presents: Comedy Night at Abita Taproom \nJoin us every 4th Wednesday at The Abita Taproom for a comedy showcase featuring the Gulf Coasts’ funniest comedians. Grab a beer\, sit back\, and enjoy the laughs!!! Y’all don’t wanna miss these incredible lineups! \nFood: Oh Yeah Cajun Style from 5pm – 9pm \nHosted by Jorge Velazquez \nUpcoming lineups can be found on Instagram @craftcomedynola \nVibes at 7:30pm \nShow at 8pm \n21+ ONLY!
URL:https://abita.com/event/august-comedy-night/
LOCATION:Covington Abita
CATEGORIES:Comedy,Food Truck
ATTACH;FMTTYPE=image/jpeg:https://abita.com/wp-content/uploads/2024/03/431008752_817421680429677_4205086872705973789_n.jpeg
END:VEVENT
BEGIN:VEVENT
DTSTART;TZID=America/Chicago:20240825T120000
DTEND;TZID=America/Chicago:20240825T180000
DTSTAMP:20260423T102910
CREATED:20240702T210603Z
LAST-MODIFIED:20240702T210603Z
UID:30851-1724587200-1724608800@abita.com
SUMMARY:Weekend Food Truck: Heart 2 Soul NOLA
DESCRIPTION:Heart 2 Soul NOLA will be at the brewery serving some great food. Grab a beer and hang out for a bit!
URL:https://abita.com/event/weekend-food-truck-heart-2-soul-nola-7/
LOCATION:Covington Abita
CATEGORIES:Food Truck
ATTACH;FMTTYPE=image/jpeg:https://abita.com/wp-content/uploads/2024/01/woocommerce-placeholder-300x300-1.jpg
END:VEVENT
BEGIN:VEVENT
DTSTART;TZID=America/Chicago:20240824T120000
DTEND;TZID=America/Chicago:20240824T180000
DTSTAMP:20260423T102910
CREATED:20240702T210119Z
LAST-MODIFIED:20240702T210119Z
UID:30844-1724500800-1724522400@abita.com
SUMMARY:Weekend Food Truck: Tacos y Birra
DESCRIPTION:Start your weekend with us at the brewery! Tacos y Birra will be at the brewery serving some great food. Grab a beer and hang out for a bit!
URL:https://abita.com/event/weekend-food-truck-tacos-y-birra-2/
LOCATION:Covington Abita
CATEGORIES:Food Truck
ATTACH;FMTTYPE=image/jpeg:https://abita.com/wp-content/uploads/2024/01/woocommerce-placeholder-300x300-1.jpg
END:VEVENT
BEGIN:VEVENT
DTSTART;TZID=America/Chicago:20240823T160000
DTEND;TZID=America/Chicago:20240823T210000
DTSTAMP:20260423T102910
CREATED:20240702T204815Z
LAST-MODIFIED:20240702T204815Z
UID:30836-1724428800-1724446800@abita.com
SUMMARY:Weekend Food Truck: Heart 2 Soul NOLA
DESCRIPTION:Start your weekend with us at the brewery! Heart 2 Soul NOLA will be at the brewery serving some great food. Grab a beer and hang out for a bit!
URL:https://abita.com/event/weekend-food-truck-heart-2-soul-nola-6/
LOCATION:Covington Abita
CATEGORIES:Food Truck
ATTACH;FMTTYPE=image/jpeg:https://abita.com/wp-content/uploads/2024/01/woocommerce-placeholder-300x300-1.jpg
END:VEVENT
BEGIN:VEVENT
DTSTART;TZID=America/Chicago:20240822T190000
DTEND;TZID=America/Chicago:20240822T210000
DTSTAMP:20260423T102910
CREATED:20240702T201101Z
LAST-MODIFIED:20240702T201101Z
UID:30826-1724353200-1724360400@abita.com
SUMMARY:Trivia Night
DESCRIPTION:Trivia time! Hosted EVERY Thursday of the month. \nFood from Tacos y Birra from 5pm – 9pm to satisfy your cravings. \nAs always\, our taproom will have the beer flowing all night long. Seating is limited\, so come early to claim your table. \nMAX TEAM SIZE IS 8. No entry fee is required. All ages welcome. \nThe winning team will receive a $50 bar tab!
URL:https://abita.com/event/trivia-night-17/
LOCATION:Covington Abita
CATEGORIES:Food Truck,Trivia Night
ATTACH;FMTTYPE=image/png:https://abita.com/wp-content/uploads/2024/01/Events-Graphics-general-Instagram-Post-2.png
END:VEVENT
BEGIN:VEVENT
DTSTART;TZID=America/Chicago:20240821T190000
DTEND;TZID=America/Chicago:20240821T210000
DTSTAMP:20260423T102910
CREATED:20240702T211753Z
LAST-MODIFIED:20240702T211753Z
UID:30859-1724266800-1724274000@abita.com
SUMMARY:BINGO
DESCRIPTION:Come enjoy some BINGO fun at the taproom this Wednesday! All ages are welcome. Food from Wicked Fire Pizza from 5pm – 9pm. \nPaper cards will be used with pens to mark your spot. You can bring your own ink daubers if you want! Each Person will get 1 free card per round. A 2nd card may be given with the purchase of a beer! No more than 2 cards per round per person. \nGood luck!
URL:https://abita.com/event/bingo-14/
LOCATION:Covington Abita
CATEGORIES:BINGO,Food Truck
ATTACH;FMTTYPE=image/jpeg:https://abita.com/wp-content/uploads/2024/01/woocommerce-placeholder-300x300-1.jpg
END:VEVENT
BEGIN:VEVENT
DTSTART;TZID=America/Chicago:20240818T160000
DTEND;TZID=America/Chicago:20240818T210000
DTSTAMP:20260423T102910
CREATED:20240702T210314Z
LAST-MODIFIED:20240702T210314Z
UID:30847-1723996800-1724014800@abita.com
SUMMARY:Karaoke
DESCRIPTION:Karaoke and a little beer never hurt anybody. Come out to the taproom and join us for karaoke from 4pm – 9pm with Karaoke Kevin. Whether you have the voice of an angel or are just here for a good time\, all are welcome. Food from Tacos y Birra from 12pm – 6pm.
URL:https://abita.com/event/karaoke-7/
LOCATION:Covington Abita
CATEGORIES:Karaoke,Food Truck
ATTACH;FMTTYPE=image/png:https://abita.com/wp-content/uploads/2024/01/Events-Graphics-general-Instagram-Post.png
END:VEVENT
BEGIN:VEVENT
DTSTART;TZID=America/Chicago:20240818T120000
DTEND;TZID=America/Chicago:20240818T180000
DTSTAMP:20260423T102910
CREATED:20240702T210520Z
LAST-MODIFIED:20240702T210520Z
UID:30850-1723982400-1724004000@abita.com
SUMMARY:Weekend Food Truck: Tacos y Birra
DESCRIPTION:Tacos y Birra will be at the brewery serving some great food. Grab a beer and hang out for a bit!
URL:https://abita.com/event/weekend-food-truck-tacos-y-birra-3/
LOCATION:Covington Abita
CATEGORIES:Food Truck
ATTACH;FMTTYPE=image/jpeg:https://abita.com/wp-content/uploads/2024/01/woocommerce-placeholder-300x300-1.jpg
END:VEVENT
BEGIN:VEVENT
DTSTART;TZID=America/Chicago:20240817T120000
DTEND;TZID=America/Chicago:20240817T180000
DTSTAMP:20260423T102910
CREATED:20240702T210050Z
LAST-MODIFIED:20240702T210050Z
UID:30843-1723896000-1723917600@abita.com
SUMMARY:Weekend Food Truck: Oh Yeah Cajun Style
DESCRIPTION:Start your weekend with us at the brewery! Oh Yeah Cajun Style will be at the brewery serving some great food. Grab a beer and hang out for a bit!
URL:https://abita.com/event/weekend-food-truck-oh-yeah-cajun-style-6/
LOCATION:Covington Abita
CATEGORIES:Food Truck
ATTACH;FMTTYPE=image/jpeg:https://abita.com/wp-content/uploads/2024/01/woocommerce-placeholder-300x300-1.jpg
END:VEVENT
BEGIN:VEVENT
DTSTART;TZID=America/Chicago:20240816T160000
DTEND;TZID=America/Chicago:20240816T210000
DTSTAMP:20260423T102910
CREATED:20240702T204751Z
LAST-MODIFIED:20240702T204751Z
UID:30835-1723824000-1723842000@abita.com
SUMMARY:Weekend Food Truck: The Good Stuffed
DESCRIPTION:Start your weekend with us at the brewery! The Good Stuffed will be at the brewery serving some great food. Grab a beer and hang out for a bit!
URL:https://abita.com/event/weekend-food-truck-the-good-stuffed-3/
LOCATION:Covington Abita
CATEGORIES:Food Truck
ATTACH;FMTTYPE=image/jpeg:https://abita.com/wp-content/uploads/2024/01/woocommerce-placeholder-300x300-1.jpg
END:VEVENT
BEGIN:VEVENT
DTSTART;TZID=America/Chicago:20240815T190000
DTEND;TZID=America/Chicago:20240815T210000
DTSTAMP:20260423T102910
CREATED:20240702T200023Z
LAST-MODIFIED:20240702T200023Z
UID:30825-1723748400-1723755600@abita.com
SUMMARY:Trivia Night
DESCRIPTION:Trivia time! Hosted EVERY Thursday of the month. \nFood from Heart 2 Soul NOLA from 5pm – 9pm to satisfy your cravings. \nAs always\, our taproom will have the beer flowing all night long. Seating is limited\, so come early to claim your table. \nMAX TEAM SIZE IS 8. No entry fee is required. All ages welcome. \nThe winning team will receive a $50 bar tab!
URL:https://abita.com/event/trivia-night-16/
LOCATION:Covington Abita
CATEGORIES:Food Truck,Trivia Night
ATTACH;FMTTYPE=image/png:https://abita.com/wp-content/uploads/2024/01/Events-Graphics-general-Instagram-Post-2.png
END:VEVENT
BEGIN:VEVENT
DTSTART;TZID=America/Chicago:20240814T190000
DTEND;TZID=America/Chicago:20240814T210000
DTSTAMP:20260423T102910
CREATED:20240702T211726Z
LAST-MODIFIED:20240702T211726Z
UID:30858-1723662000-1723669200@abita.com
SUMMARY:BINGO
DESCRIPTION:Come enjoy some BINGO fun at the taproom this Wednesday! All ages are welcome. Food from Fusion Eatz from 5pm – 9pm. \nPaper cards will be used with pens to mark your spot. You can bring your own ink daubers if you want! Each Person will get 1 free card per round. A 2nd card may be given with the purchase of a beer! No more than 2 cards per round per person. \nGood luck!
URL:https://abita.com/event/bingo-13/
LOCATION:Covington Abita
CATEGORIES:BINGO,Food Truck
ATTACH;FMTTYPE=image/jpeg:https://abita.com/wp-content/uploads/2024/01/woocommerce-placeholder-300x300-1.jpg
END:VEVENT
BEGIN:VEVENT
DTSTART;TZID=UTC:20240813T190000
DTEND;TZID=UTC:20240813T210000
DTSTAMP:20260423T102910
CREATED:20240717T010219Z
LAST-MODIFIED:20240717T010219Z
UID:30856-1723575600-1723582800@abita.com
SUMMARY:Cousins Confectionery August Cookie Decorating Class
DESCRIPTION:Come to the brewery and decorate some cookies! \nYou will learn sugar cookie decorating techniques and decorate a set of 6 cookies to take home. Cookies for the August class are in the event image.\n\n$45 per person. Includes your first pint of beer for FREE!\n\nSign up at cousinsconfectionery.com
URL:https://abita.com/event/cousins-confectionery-august-cookie-decorating-class/
LOCATION:Covington Abita
CATEGORIES:Craft Night
ATTACH;FMTTYPE=image/png:https://abita.com/wp-content/uploads/2024/07/Cookie-Decorating-image-1.png
END:VEVENT
BEGIN:VEVENT
DTSTART;TZID=America/Chicago:20240811T120000
DTEND;TZID=America/Chicago:20240811T180000
DTSTAMP:20260423T102910
CREATED:20240702T210456Z
LAST-MODIFIED:20240702T210456Z
UID:30849-1723377600-1723399200@abita.com
SUMMARY:Weekend Food Truck: Nacho Kat
DESCRIPTION:Nacho Kat will be at the brewery serving some great food. Grab a beer and hang out for a bit!
URL:https://abita.com/event/weekend-food-truck-nacho-kat-3/
LOCATION:Covington Abita
CATEGORIES:Food Truck
ATTACH;FMTTYPE=image/jpeg:https://abita.com/wp-content/uploads/2024/01/woocommerce-placeholder-300x300-1.jpg
END:VEVENT
BEGIN:VEVENT
DTSTART;TZID=UTC:20240810T140000
DTEND;TZID=UTC:20240810T180000
DTSTAMP:20260423T102910
CREATED:20240627T004334Z
LAST-MODIFIED:20240627T004349Z
UID:30775-1723298400-1723312800@abita.com
SUMMARY:Tallahassee Beer Festival
DESCRIPTION:6th Annual Tallahassee Beer Festival scheduled on Saturday\, August 10\, 2024\, at the Donald L. Tucker Civic Center! This event features UNLIMITED samples from 110+ breweries – national\, regional\, and home brewers – with more than 300 different beers on tap and in cans. Find your next favorite fermentation\, from ales and lagers to ciders and ready-to-drink cocktails. This unforgettable experience features entertainment\, music\, local vendors\, food available for purchase\, and most importantly\, the chance to DO GOOD while you DRINK BEER. \n  \nAll ticket options have a $20 off discount for First Responders (EMT/Parameds/Fire/Police/) as well as Teachers\, Nurses\, Electric Linemen\, and Active Duty Military.
URL:https://abita.com/event/tallahassee-beer-festival/
LOCATION:The Donald L Tucker Civic Center\, 505 W Pensacola St\, Tallahassee\, FL\, 32301\, United States
CATEGORIES:Beer Sampling,Bar Promotions
ATTACH;FMTTYPE=image/jpeg:https://abita.com/wp-content/uploads/2024/01/woocommerce-placeholder-300x300-1.jpg
END:VEVENT
BEGIN:VEVENT
DTSTART;TZID=America/Chicago:20240810T120000
DTEND;TZID=America/Chicago:20240810T180000
DTSTAMP:20260423T102910
CREATED:20240702T210035Z
LAST-MODIFIED:20240702T210035Z
UID:30842-1723291200-1723312800@abita.com
SUMMARY:Weekend Food Truck: Oh Yeah Cajun Style
DESCRIPTION:Start your weekend with us at the brewery! Oh Yeah Cajun Style will be at the brewery serving some great food. Grab a beer and hang out for a bit!
URL:https://abita.com/event/weekend-food-truck-oh-yeah-cajun-style-5/
LOCATION:Covington Abita
CATEGORIES:Food Truck
ATTACH;FMTTYPE=image/jpeg:https://abita.com/wp-content/uploads/2024/01/woocommerce-placeholder-300x300-1.jpg
END:VEVENT
BEGIN:VEVENT
DTSTART;TZID=UTC:20240810T080000
DTEND;TZID=UTC:20240810T170000
DTSTAMP:20260423T102910
CREATED:20240716T205202Z
LAST-MODIFIED:20240716T205214Z
UID:31119-1723276800-1723309200@abita.com
SUMMARY:Red Dress Run
DESCRIPTION:If you’ve ever wondered why so many people are dressed in red dresses in New Orleans on the second Saturday in August\, look no further than Red Dress Run. \nA charity “run” in New Orleans\, Red Dress Run is hosted by the New Orleans Hash House Harriers. This local drinking club hosts the world’s most unique running event. All locals and visitors attend this annual event dressed in red attire-specifically\, dresses. \nThis event involves a two-mile run beginning at Crescent Park in the Bywater. Locals and visitors will be served lunch at 11:30 a.m.\, along with live music. All participants must be 21 or older. You don’t have to be a member of the New Orleans Hash House Harriers to participate\, but registration is highly encouraged\, as 100% of the proceeds go to local charities.  \nCome out and enjoy an Abita Beer in your red dress!
URL:https://abita.com/event/red-dress-run/
LOCATION:Crescent Park\, 2300 N Peters St\, New Orleans\, LA\, 70117\, United States
CATEGORIES:Bar Promotions,Fundraiser
ATTACH;FMTTYPE=image/png:https://abita.com/wp-content/uploads/2024/07/Screen-Shot-2024-07-16-at-10.51.08-AM-e1721145104761.png
END:VEVENT
BEGIN:VEVENT
DTSTART;TZID=America/Chicago:20240809T170000
DTEND;TZID=America/Chicago:20240809T210000
DTSTAMP:20260423T102910
CREATED:20240702T204722Z
LAST-MODIFIED:20240702T204722Z
UID:30834-1723222800-1723237200@abita.com
SUMMARY:Weekend Food Truck: The Cajun Hideout
DESCRIPTION:Start your weekend with us at the brewery! The Cajun Hideout will be at the brewery serving some great food. Grab a beer and hang out for a bit!
URL:https://abita.com/event/weekend-food-truck-the-cajun-hideout/
LOCATION:Covington Abita
CATEGORIES:Food Truck
ATTACH;FMTTYPE=image/jpeg:https://abita.com/wp-content/uploads/2024/01/woocommerce-placeholder-300x300-1.jpg
END:VEVENT
BEGIN:VEVENT
DTSTART;TZID=America/Chicago:20240808T190000
DTEND;TZID=America/Chicago:20240808T210000
DTSTAMP:20260423T102910
CREATED:20240702T200001Z
LAST-MODIFIED:20240702T200001Z
UID:30823-1723143600-1723150800@abita.com
SUMMARY:Trivia Night
DESCRIPTION:Trivia time! Hosted EVERY Thursday of the month. \nFood from The Good Stuffed from 5pm – 9pm to satisfy your cravings. \nAs always\, our taproom will have the beer flowing all night long. Seating is limited\, so come early to claim your table. \nMAX TEAM SIZE IS 8. No entry fee is required. All ages welcome. \nThe winning team will receive a $50 bar tab!
URL:https://abita.com/event/trivia-night-15/
LOCATION:Covington Abita
CATEGORIES:Food Truck,Trivia Night
ATTACH;FMTTYPE=image/png:https://abita.com/wp-content/uploads/2024/01/Events-Graphics-general-Instagram-Post-2.png
END:VEVENT
BEGIN:VEVENT
DTSTART;TZID=America/Chicago:20240807T190000
DTEND;TZID=America/Chicago:20240807T210000
DTSTAMP:20260423T102910
CREATED:20240702T211708Z
LAST-MODIFIED:20240702T211708Z
UID:30857-1723057200-1723064400@abita.com
SUMMARY:BINGO
DESCRIPTION:Come enjoy some BINGO fun at the taproom this Wednesday! All ages are welcome. Food from Fusion Eatz from 5pm – 9pm. \nPaper cards will be used with pens to mark your spot. You can bring your own ink daubers if you want! Each Person will get 1 free card per round. A 2nd card may be given with the purchase of a beer! No more than 2 cards per round per person. \nGood luck!
URL:https://abita.com/event/bingo-12/
LOCATION:Covington Abita
CATEGORIES:BINGO,Food Truck
ATTACH;FMTTYPE=image/jpeg:https://abita.com/wp-content/uploads/2024/01/woocommerce-placeholder-300x300-1.jpg
END:VEVENT
BEGIN:VEVENT
DTSTART;TZID=America/Chicago:20240804T160000
DTEND;TZID=America/Chicago:20240804T210000
DTSTAMP:20260423T102910
CREATED:20240702T210245Z
LAST-MODIFIED:20240702T210245Z
UID:30846-1722787200-1722805200@abita.com
SUMMARY:Karaoke
DESCRIPTION:Karaoke and a little beer never hurt anybody. Come out to the taproom and join us for karaoke from 4pm – 9pm with Karaoke Kevin. Whether you have the voice of an angel or are just here for a good time\, all are welcome. Food from Oh Yeah Cajun Style from 12pm – 6pm.
URL:https://abita.com/event/karaoke-6/
LOCATION:Covington Abita
CATEGORIES:Karaoke,Food Truck
ATTACH;FMTTYPE=image/png:https://abita.com/wp-content/uploads/2024/01/Events-Graphics-general-Instagram-Post.png
END:VEVENT
BEGIN:VEVENT
DTSTART;TZID=America/Chicago:20240804T120000
DTEND;TZID=America/Chicago:20240804T180000
DTSTAMP:20260423T102910
CREATED:20240702T210432Z
LAST-MODIFIED:20240702T210432Z
UID:30848-1722772800-1722794400@abita.com
SUMMARY:Weekend Food Truck: Oh Yeah Cajun Style
DESCRIPTION:Oh Yeah Cajun Style will be at the brewery serving some great food. Grab a beer and hang out for a bit!
URL:https://abita.com/event/weekend-food-truck-oh-yeah-cajun-style-7/
LOCATION:Covington Abita
CATEGORIES:Food Truck
ATTACH;FMTTYPE=image/jpeg:https://abita.com/wp-content/uploads/2024/01/woocommerce-placeholder-300x300-1.jpg
END:VEVENT
BEGIN:VEVENT
DTSTART;TZID=UTC:20240803T120000
DTEND;TZID=UTC:20240804T200000
DTSTAMP:20260423T102910
CREATED:20240718T214300Z
LAST-MODIFIED:20240731T192914Z
UID:31210-1722686400-1722801600@abita.com
SUMMARY:Satchmo Summerfest
DESCRIPTION:Our two-day celebration is one of the only festivals in the world dedicated to honoring Louis Armstrong and features two stages of music\, a delicious culinary lineup featuring Louisiana restaurants\, and an incredible indoor lecture series poised to educate guests on Armstrong’s history and enduring impact. \n  \n\nSatchmo SummerFest is scheduled annually to coincide with Louis Armstrong’s birthday on August 4th; the first festival took place on what would have been his 100th birthday\, the same year the New Orleans airport was renamed Louis Armstrong International Airport. The artist often stated in public interviews that he was born on July 4\, 1900 (Independence Day)\, a date that has been noted in many biographies. Armstrong died in 1971 and his true birthdate\, August 4\, 1901\, was not discovered until the mid-1980s. \nLouis Armstrong was raised in a poor section of New Orleans known as “Jane Alley.” Throughout his career\, he entertained millions – from heads of state and royalty to the neighborhood kids on his stoop in Corona\, New York. Despite his fame\, he lived a simple life in a working-class neighborhood. The man known around the world as “Satchmo\,” short for Satchelmouth\, was widely recognized as a founding father of jazz – a unique American art form. In 1932\, Melody Maker magazine editor Percy Brooks greeted Armstrong in London with “Hello\, Satchmo!” and the nickname stuck. His influence as an artist and cultural icon is universal\, unmatched\, and very much alive today.
URL:https://abita.com/event/satchmo-summerfest/
LOCATION:The New Orleans Jazz Museum\, 400 Esplanade Ave\, New Orleans\, LA\, 70116\, United States
CATEGORIES:Beer Fest,Beer Sampling,Festival
ATTACH;FMTTYPE=image/jpeg:https://abita.com/wp-content/uploads/2024/07/IMG_5875-1-e1721320942524.jpg
END:VEVENT
BEGIN:VEVENT
DTSTART;TZID=America/Chicago:20240803T120000
DTEND;TZID=America/Chicago:20240803T180000
DTSTAMP:20260423T102910
CREATED:20240702T205043Z
LAST-MODIFIED:20240702T205043Z
UID:30838-1722686400-1722708000@abita.com
SUMMARY:Weekend Food Truck: Oh Yeah Cajun Style
DESCRIPTION:Start your weekend with us at the brewery! Oh Yeah Cajun Style will be at the brewery serving some great food. Grab a beer and hang out for a bit!
URL:https://abita.com/event/weekend-food-truck-oh-yeah-cajun-style-4/
LOCATION:Covington Abita
CATEGORIES:Food Truck
ATTACH;FMTTYPE=image/jpeg:https://abita.com/wp-content/uploads/2024/01/woocommerce-placeholder-300x300-1.jpg
END:VEVENT
BEGIN:VEVENT
DTSTART;TZID=America/Chicago:20240801T190000
DTEND;TZID=America/Chicago:20240801T210000
DTSTAMP:20260423T102910
CREATED:20240702T195939Z
LAST-MODIFIED:20240702T195939Z
UID:30822-1722538800-1722546000@abita.com
SUMMARY:Trivia Night
DESCRIPTION:Trivia time! Hosted EVERY Thursday of the month. \nFood from Tacos y Birra from 5pm – 9pm to satisfy your cravings. \nAs always\, our taproom will have the beer flowing all night long. Seating is limited\, so come early to claim your table. \nMAX TEAM SIZE IS 8. No entry fee is required. All ages welcome. \nThe winning team will receive a $50 bar tab!
URL:https://abita.com/event/trivia-night-14/
LOCATION:Covington Abita
CATEGORIES:Food Truck,Trivia Night
ATTACH;FMTTYPE=image/png:https://abita.com/wp-content/uploads/2024/01/Events-Graphics-general-Instagram-Post-2.png
END:VEVENT
BEGIN:VEVENT
DTSTART;TZID=America/Chicago:20240731T190000
DTEND;TZID=America/Chicago:20240731T210000
DTSTAMP:20260423T102910
CREATED:20240604T232622Z
LAST-MODIFIED:20240604T232622Z
UID:30543-1722452400-1722459600@abita.com
SUMMARY:BINGO
DESCRIPTION:Come enjoy some BINGO fun at the taproom this Wednesday! All ages are welcome. Food from Nacho Kat from 5pm – 9pm. \nPaper cards will be used with pens to mark your spot. Each Person will get 1 free card per round. A 2nd card may be given with the purchase of a beer! No more than 2 cards per round per person. \nGood luck!
URL:https://abita.com/event/bingo-10/
LOCATION:Covington Abita
CATEGORIES:BINGO,Food Truck
ATTACH;FMTTYPE=image/jpeg:https://abita.com/wp-content/uploads/2024/01/woocommerce-placeholder-300x300-1.jpg
END:VEVENT
BEGIN:VEVENT
DTSTART;TZID=America/Chicago:20240728T120000
DTEND;TZID=America/Chicago:20240728T180000
DTSTAMP:20260423T102910
CREATED:20240625T200809Z
LAST-MODIFIED:20240625T200809Z
UID:30756-1722168000-1722189600@abita.com
SUMMARY:Weekend Food Truck: Oh Yeah Cajun Style
DESCRIPTION:Start your weekend with us at the brewery! Oh Yeah Cajun Style will be at the brewery serving some great food. Grab a beer and hang out for a bit!
URL:https://abita.com/event/weekend-food-truck-oh-yeah-cajun-style-3/
LOCATION:Covington Abita
CATEGORIES:Food Truck
ATTACH;FMTTYPE=image/jpeg:https://abita.com/wp-content/uploads/2024/01/woocommerce-placeholder-300x300-1.jpg
END:VEVENT
BEGIN:VEVENT
DTSTART;TZID=America/Chicago:20240727T120000
DTEND;TZID=America/Chicago:20240727T180000
DTSTAMP:20260423T102910
CREATED:20240625T200729Z
LAST-MODIFIED:20240625T200729Z
UID:30755-1722081600-1722103200@abita.com
SUMMARY:Weekend Food Truck: Tootsie's BBQ
DESCRIPTION:Start your weekend with us at the brewery! Tootsie’s BBQ will be at the brewery serving some great food. Grab a beer and hang out for a bit!
URL:https://abita.com/event/weekend-food-truck-tootsies-bbq-3/
LOCATION:Covington Abita
CATEGORIES:Food Truck
ATTACH;FMTTYPE=image/jpeg:https://abita.com/wp-content/uploads/2024/01/woocommerce-placeholder-300x300-1.jpg
END:VEVENT
END:VCALENDAR